BEGIN:VCALENDAR
VERSION:2.0
PRODID:icalendar-ruby
CALSCALE:GREGORIAN
METHOD:PUBLISH
BEGIN:VEVENT
DTSTAMP:20260424T133135Z
UID:9-670227@firstchristianmctn.org
DTSTART:20260927T150000Z
DTEND:20260927T160000Z
CLASS:PUBLIC
CREATED:20260424T080905
DESCRIPTION:
LAST-MODIFIED:20260424T080905
LOCATION:The Sanctuary
SUMMARY:Sunday Worship
URL;VALUE=URI:https://www.firstchristianmctn.org/events/sunday-worship/2026
 -09-27
ATTACH;FILENAME=66297935_2430800923652997_5151635588754964480_n.jpg;FMTTYPE
 =image/jpeg:https://dq5pwpg1q8ru0.cloudfront.net/2024/03/10/21/46/35/a29b3
 2d2-799f-4ab5-b298-58c150761063/66297935_2430800923652997_5151635588754964
 480_n.jpg
END:VEVENT
END:VCALENDAR
